BEGIN:VCALENDAR
VERSION:2.0
PRODID:-//ChamberMaster//Event Calendar 2.0//EN
METHOD:PUBLISH
X-PUBLISHED-TTL:P3D
REFRESH-INTERVAL:P3D
CALSCALE:GREGORIAN
BEGIN:VEVENT
DTSTART:20240724T140000Z
DTEND:20240724T180000Z
X-MICROSOFT-CDO-ALLDAYEVENT:FALSE
SUMMARY:Vermilion Parish Job Fair 2024
DESCRIPTION:Join us for our annual hiring event and build your team! The Vermilion Parish Job Fair connects people to industry! The search is over - your next great hire is here!\n\n \nAdult jobseekers are invited to attend and learn about local job opportunities\, submit applications\, and community resources. Be interview ready and bring your ID and resume!\n\n\nRegistered Vendors will receive:\n\n\n	Access to motivated\, job-ready applicants\n	6 Foot Table and Chairs and room to display your enterprise\n	Marketing on Social Media\n	Wi-Fi Access\n	Application & Interview Stations
X-ALT-DESC;FMTTYPE=text/html:<span style="color:#800000\;"><strong><span style="font-family:verdana\;"><span style="font-size:14px\;">Join us for our annual hiring event and build your team! The Vermilion Parish Job Fair connects people to industry! <em>The search is over - your next great hire is here!</em><br />\n&nbsp\;</span></span></strong></span>\n<div style="font-family: Aptos\, Aptos_EmbeddedFont\, Aptos_MSFontService\, Calibri\, Helvetica\, sans-serif\; font-size: 12pt\; color: rgb(0\, 0\, 0)\;"><strong><span style="font-family:verdana\;"><span style="font-size:14px\;">Adult jobseekers are invited to attend and learn about local job opportunities\, submit applications\, and community resources.&nbsp\;</span><span style="font-size:14px\;">Be interview ready and bring your ID and resume!</span></span></strong></div>\n<br />\n<strong><span style="font-family:verdana\;"><span style="color:#000000\;">Registered Vendors will receive:</span></span></strong>\n\n<ul>\n	<li><span style="color:#000000\;"><strong><span style="font-family:verdana\;">Access to motivated\, job-ready applicants</span></strong></span></li>\n	<li><span style="color:#000000\;"><strong><span style="font-family:verdana\;">6 Foot Table and Chairs and room to display your enterprise</span></strong></span></li>\n	<li><span style="color:#000000\;"><strong><span style="font-family:verdana\;">Marketing on Social Media</span></strong></span></li>\n	<li><span style="color:#000000\;"><strong><span style="font-family:verdana\;">Wi-Fi Access</span></strong></span></li>\n	<li><span style="color:#000000\;"><strong><span style="font-family:verdana\;">Application &amp\; Interview Stations</span></strong></span></li>\n</ul>\n
LOCATION:Held in the spacious Abbeville High School Gym located at 1305 Wildcat Drive Abbeville\, LA
UID:e.2658.2453
SEQUENCE:3
DTSTAMP:20260424T234646Z
URL:https://www.vermilionchamber.org/events/details/vermilion-parish-job-fair-2024-2453
END:VEVENT

END:VCALENDAR
