BEGIN:VCALENDAR
VERSION:2.0
PRODID:-//ChamberMaster//Event Calendar 2.0//EN
METHOD:PUBLISH
X-PUBLISHED-TTL:P3D
REFRESH-INTERVAL:P3D
CALSCALE:GREGORIAN
BEGIN:VEVENT
DTSTART:20240627T163000Z
DTEND:20240627T180000Z
X-MICROSOFT-CDO-ALLDAYEVENT:FALSE
SUMMARY:VEDA & VPSB Workforce Luncheon
DESCRIPTION:Vermilion Economic Development Alliance and Vermilion Parish School System will host a luncheon event available to all Vermilion Parish businesses who are interested in engaging with the Vermilion Parish School System and students as a component of their workforce and recruitment strategy. The event is free\, and lunch will be included for those who pre-register.
X-ALT-DESC;FMTTYPE=text/html:<span style="color: rgb(0\, 0\, 0)\; font-family: Aptos\, Aptos_EmbeddedFont\, Aptos_MSFontService\, Calibri\, Helvetica\, sans-serif\; font-size: 16px\;">Vermilion Economic Development Alliance and Vermilion Parish School System will host a luncheon&nbsp\;event available to all Vermilion Parish businesses who are interested in engaging with the Vermilion Parish School System and students as a component of their workforce and recruitment strategy.&nbsp\;The event is free\, and lunch will be included for those who pre-register.&nbsp\;</span>
LOCATION:Abbeville Event Center (Next to the Chamber of Commerce Office)
UID:e.2658.2455
SEQUENCE:3
DTSTAMP:20260424T232609Z
URL:https://www.vermilionchamber.org/events/details/veda-vpsb-workforce-luncheon-2455
END:VEVENT

END:VCALENDAR
