BEGIN:VCALENDAR
VERSION:2.0
PRODID:-//ChamberMaster//Event Calendar 2.0//EN
METHOD:PUBLISH
X-PUBLISHED-TTL:P3D
REFRESH-INTERVAL:P3D
CALSCALE:GREGORIAN
BEGIN:VEVENT
DTSTART:20240506T233000Z
DTEND:20240506T233000Z
X-MICROSOFT-CDO-ALLDAYEVENT:FALSE
SUMMARY:Special Concert
DESCRIPTION:*** BIG ANNOUNCEMENT *** SAVE THE DATE! *** \n\nMONDAY\, MAY 6th - St. Mary Magdalen Church - Abbeville - 6:30pm - FREE! (PLEASE SHARE)\n\nProud to present the ACADIANA SYMPHONY ORCHESTRA featuring the world-renowned classical violinist\, Ms. ELIZABETH PITCAIRN\, performing on her famous 1736 Stradivarius Red Violin! They will be performing music from Virgil Thompson's PULITZER PRIZE-WINNING score from Robert Flaherty's beautiful 1948 film "Louisiana Story". \n\nThis year marks the 75th anniversary of the film's 1949 Southern Gala Premiere which has deep historical roots in Abbeville and Iberia Parish\, originally premiering at the Frank's Theater in downtown Abbeville. \n\nThis is an incredible opportunity to witness a rare and historical symphonic musical performance! All invited!
X-ALT-DESC;FMTTYPE=text/html:&nbsp\;<br />\n<span style="color:#050505\;"><span style="font-family:inherit\;"><span style="font-size:11.5pt\;">*** BIG ANNOUNCEMENT *** SAVE THE DATE! *** </span></span></span><br />\n<span style="color:#050505\;"><span style="font-family:inherit\;"><span style="font-size:11.5pt\;">MONDAY\, MAY 6th - St. Mary Magdalen Church - Abbeville - 6:30pm - FREE! (PLEASE SHARE)</span></span></span><br />\n<span style="color:#050505\;"><span style="font-family:inherit\;"><span style="font-size:11.5pt\;">Proud to present the ACADIANA SYMPHONY ORCHESTRA featuring the world-renowned classical violinist\, Ms. ELIZABETH PITCAIRN\, performing on her famous 1736 Stradivarius Red Violin! They will be performing music from Virgil Thompson&rsquo\;s PULITZER PRIZE-WINNING score from Robert Flaherty&rsquo\;s beautiful 1948 film &ldquo\;Louisiana Story&rdquo\;. </span></span></span><br />\n<span style="color:#050505\;"><span style="font-family:inherit\;"><span style="font-size:11.5pt\;">This year marks the 75th anniversary of the film&rsquo\;s 1949 Southern Gala Premiere which has deep historical roots in Abbeville and Iberia Parish\, originally premiering at the Frank&rsquo\;s Theater in downtown Abbeville. </span></span></span><br />\n<span style="color:#050505\;"><span style="font-family:inherit\;"><span style="font-size:11.5pt\;">This is an incredible opportunity to witness a rare and historical symphonic musical performance! All invited!</span></span></span>
LOCATION:
UID:e.2658.2450
SEQUENCE:3
DTSTAMP:20260422T192057Z
URL:https://www.vermilionchamber.org/events/details/special-concert-2450
END:VEVENT

END:VCALENDAR
