BEGIN:VCALENDAR
VERSION:2.0
PRODID:-//ChamberMaster//Event Calendar 2.0//EN
METHOD:PUBLISH
X-PUBLISHED-TTL:P3D
REFRESH-INTERVAL:P3D
CALSCALE:GREGORIAN
BEGIN:VEVENT
DTSTART:20240622T150000Z
DTEND:20240622T180000Z
X-MICROSOFT-CDO-ALLDAYEVENT:FALSE
SUMMARY:Ribbon Cutting at Total Eclipse
DESCRIPTION:Total Eclipse Tanning Studio
X-ALT-DESC;FMTTYPE=text/html:Total Eclipse Tanning Studio
LOCATION:2154 Charity Street Abbeville\, LA
UID:e.2658.2454
SEQUENCE:3
DTSTAMP:20260424T221930Z
URL:https://www.vermilionchamber.org/events/details/ribbon-cutting-at-total-eclipse-2454
END:VEVENT

END:VCALENDAR
