BEGIN:VCALENDAR
VERSION:2.0
PRODID:-//ChamberMaster//Event Calendar 2.0//EN
METHOD:PUBLISH
X-PUBLISHED-TTL:P3D
REFRESH-INTERVAL:P3D
CALSCALE:GREGORIAN
BEGIN:VEVENT
DTSTART:20240710T170000Z
DTEND:20240814T170000Z
X-MICROSOFT-CDO-ALLDAYEVENT:FALSE
SUMMARY:Leadership Vermilion Class 11 Applications Open
DESCRIPTION:Use this link to access the application!\n	\n	Leadership Vermilion Applications should be electronically submitted to connect@vermilionchamber.org or vermilionchamber1907@gmail.com.\n	You may type & print the application and mail to or drop off at 1907 Veteran's memorial Drive\, Abbeville\, LA 70510.\n	Deadline for completed applications is end of business day August 14th.
X-ALT-DESC;FMTTYPE=text/html:<ul>\n	<li style="font-family: tahoma\;">\n	<p><span style="font-size:14px\;"><span style="font-size:16px\;"><span style="color: rgb(51\, 51\, 51)\;"><strong>&#8203\;Use this&nbsp\;<a href="https://chambermaster.blob.core.windows.net/userfiles/UserFiles/chambers/2658/File/Leadership_Application/20242025VermilionLeadershipProgramApplication.pdf" style="color: rgb(7\, 130\, 193)\;">link</a>&nbsp\;to access the application!</strong></span></span></span></p>\n	</li>\n	<li><span style="font-family:tahoma\;"><span style="font-size:14px\;"><span style="font-size:16px\;"><span style="color: rgb(51\, 51\, 51)\; background-color: rgb(255\, 255\, 255)\;">Leadership Vermilion Applications should be electronically submitted to <strong>connect@vermilionchamber.org</strong> or <strong>vermilionchamber1907@gmail.com</strong>.</span></span></span></span></li>\n	<li><span style="font-family: tahoma\;"><span style="font-size:14px\;"><span style="font-size:16px\;"><span style="color: rgb(51\, 51\, 51)\; background-color: rgb(255\, 255\, 255)\;">You&nbsp\;may<strong>&nbsp\;type &amp\; print</strong>&nbsp\;the application and mail to or drop off at 1907 Veteran&#39\;s memorial Drive\, Abbeville\, LA 70510.</span></span></span></span></li>\n	<li><span style="font-family: tahoma\;"><span style="font-size:14px\;"><span style="font-size:16px\;">Deadline for completed applications is <strong>end of business day August 14th</strong>.</span></span></span></li>\n</ul>\n
LOCATION:
UID:e.2658.2456
SEQUENCE:3
DTSTAMP:20260424T234611Z
URL:https://www.vermilionchamber.org/events/details/leadership-vermilion-class-11-applications-open-2456
END:VEVENT

END:VCALENDAR
