BEGIN:VCALENDAR
VERSION:2.0
PRODID:-//ChamberMaster//Event Calendar 2.0//EN
METHOD:PUBLISH
X-PUBLISHED-TTL:P3D
REFRESH-INTERVAL:P3D
CALSCALE:GREGORIAN
BEGIN:VEVENT
DTSTART:20251125T200000Z
DTEND:20251125T210000Z
X-MICROSOFT-CDO-ALLDAYEVENT:FALSE
SUMMARY:Gratitude & Grace — Thanksgiving Pilates Mat Class
DESCRIPTION:Gratitude & Grace   Thanksgiving Pilates Mat Class  \n\n\n\nGive yourself a moment of calm before the holiday rush. Join Abbeville Chiropractic Clinic for a rejuvenating Thanksgiving Pilates Mat Class designed to help you breathe\, stretch\, and restore your body with gratitude.\n\n  Abbeville Chiropractic Clinic\n\n2619 South Dr.\, Abbeville\, LA 70510\n\n  Tuesday\, November 25\n\n  2:00 PM\n\n  $20 per participant\n\nClass Focus:\n\n  Core stability\n\n  Gentle spinal mobility\n\n  Relaxation & tension release\n\nThis revitalizing mat class will guide you in connecting to your inner calm\, improving mobility\, and preparing your body and mind for the busy holiday season. Class will be led by Danielle Guidry.\n\nSpace is limited   call (337) 893-4353 to reserve your spot!\n\nStart the season centered\, strong\, and grateful.
X-ALT-DESC;FMTTYPE=text/html:<p data-end="222" data-start="100">&#129505\; <strong data-end="157" data-start="103">Gratitude &amp\; Grace &mdash\; Thanksgiving Pilates Mat Class</strong> &#129505\;<br data-end="163" data-start="160" />\n<br />\nGive yourself a moment of calm before the holiday rush. Join Abbeville Chiropractic Clinic for a rejuvenating <strong data-end="368" data-start="334">Thanksgiving Pilates Mat Class</strong> designed to help you breathe\, stretch\, and restore your body with gratitude.</p>\n\n<p data-end="596" data-start="447">&#128205\; <strong data-end="483" data-start="450">Abbeville Chiropractic Clinic</strong><br data-end="486" data-start="483" />\n2619 South Dr.\, Abbeville\, LA 70510<br data-end="524" data-start="521" />\n&#128197\; <strong data-end="551" data-start="527">Tuesday\, November 25</strong><br data-end="554" data-start="551" />\n&#9200\; <strong data-end="567" data-start="556">2:00 PM</strong><br data-end="570" data-start="567" />\n&#128178\; <strong data-end="596" data-start="573">$20 per participant</strong></p>\n\n<p data-end="695" data-start="598"><strong data-end="614" data-start="598">Class Focus:</strong><br data-end="617" data-start="614" />\n&bull\; Core stability<br data-end="636" data-start="633" />\n&bull\; Gentle spinal mobility<br data-end="663" data-start="660" />\n&bull\; Relaxation &amp\; tension release</p>\n\n<p data-end="897" data-start="697">This revitalizing mat class will guide you in connecting to your inner calm\, improving mobility\, and preparing your body and mind for the busy holiday season. Class will be led by <strong data-end="896" data-start="877">Danielle Guidry</strong>.</p>\n\n<p data-end="963" data-start="899">Space is limited &mdash\; call <strong data-end="941" data-start="923">(337) 893-4353</strong> to reserve your spot!</p>\n\n<p data-end="1017" data-start="965">Start the season centered\, strong\, and grateful. &#127809\;&#10024\;</p>\n
LOCATION:Abbeville Chiropractic Clinic 2619 South Dr.\, Abbeville\, LA 70510
UID:e.2658.2508
SEQUENCE:3
DTSTAMP:20260426T012956Z
URL:https://www.vermilionchamber.org/events/details/gratitude-grace-thanksgiving-pilates-mat-class-2508
END:VEVENT

END:VCALENDAR
