BEGIN:VCALENDAR
VERSION:2.0
PRODID:-//ChamberMaster//Event Calendar 2.0//EN
METHOD:PUBLISH
X-PUBLISHED-TTL:P3D
REFRESH-INTERVAL:P3D
CALSCALE:GREGORIAN
BEGIN:VEVENT
DTSTART:20240725T230000Z
DTEND:20240726T030000Z
X-MICROSOFT-CDO-ALLDAYEVENT:FALSE
SUMMARY:Boys & Girls Clubs of Acadiana Celebrity Waiter
DESCRIPTION:The Boys & Girls Clubs of Acadiana invites you to their 29th Annual Celebrity Waiter Dinner and Auction. Join us for an unforgettable evening filled with music\, food\, drinks and most importantly\, a chance to make a difference in the lives of the youth at our Vermilion Club. As you mingle and enjoy the company\, local celebrity waiters will be at your service\, ensuring your dining experience is both entertaining and memorable all while raising funds to support our community's youth. Bid on an array of live and silent auction items filled with experiences\, unique gifts\, and much more. Every winning bid contributes directly to empowering the next generation through our programs and services. So mark your calendars and join us for a night of philanthropy\, camaraderie\, and fun! Together\, we can make a meaningful difference in the lives of the youth in our community. For questions and sponsorship information\, please email Samantha Leger\, Events & Marketing Manager\, at sleger@bgcacadiana.com. Sponsored by: Ray Chevrolet and Jacob Landry.
X-ALT-DESC;FMTTYPE=text/html:The Boys &amp\; Girls Clubs of Acadiana invites you to their 29th Annual Celebrity Waiter Dinner and Auction. Join us for an unforgettable evening filled with music\, food\, drinks and most importantly\, a chance to make a difference in the lives of the youth at our Vermilion Club. As you mingle and enjoy the company\, local celebrity waiters will be at your service\, ensuring your dining experience is both entertaining and memorable all while raising funds to support our community&#39\;s youth. Bid on an array of live and silent auction items filled with experiences\, unique gifts\, and much more. Every winning bid contributes directly to empowering the next generation through our programs and services. So mark your calendars and join us for a night of philanthropy\, camaraderie\, and fun! Together\, we can make a meaningful difference in the lives of the youth in our community. For questions and sponsorship information\, please email Samantha Leger\, Events &amp\; Marketing Manager\, at sleger@bgcacadiana.com. Sponsored by: Ray Chevrolet and Jacob Landry.
LOCATION:Quality Sports Authority 12725 N Rd\, Erath\, LA 70533
UID:e.2658.2452
SEQUENCE:3
DTSTAMP:20260425T010018Z
URL:https://www.vermilionchamber.org/events/details/boys-girls-clubs-of-acadiana-celebrity-waiter-2452
END:VEVENT

END:VCALENDAR
