BEGIN:VCALENDAR
VERSION:2.0
PRODID:-//ChamberMaster//Event Calendar 2.0//EN
METHOD:PUBLISH
X-PUBLISHED-TTL:P3D
REFRESH-INTERVAL:P3D
CALSCALE:GREGORIAN
BEGIN:VEVENT
DTSTART:20250221T160000Z
DTEND:20250221T170000Z
X-MICROSOFT-CDO-ALLDAYEVENT:FALSE
SUMMARY:Black History Month Program
DESCRIPTION:
X-ALT-DESC;FMTTYPE=text/html:
LOCATION:Abbeville High School Auditorium 1305 Wildcat Drive\, Abbeville\, LA
UID:e.2658.2477
SEQUENCE:3
DTSTAMP:20260420T150631Z
URL:https://www.vermilionchamber.org/events/details/black-history-month-program-2477
END:VEVENT

END:VCALENDAR
